BEGIN:VCALENDAR
VERSION:2.0
PRODID:icalendar-ruby
CALSCALE:GREGORIAN
METHOD:PUBLISH
BEGIN:VEVENT
DTSTAMP:20260422T132200Z
UID:67-576300@fbcsenatobia.com
DTSTART:20261021T230000Z
DTEND:20261022T000000Z
CLASS:PUBLIC
CREATED:20260422T074651
DESCRIPTION:If you have any questions about the youth group or activities\,
  contact Cole Owen. 
LAST-MODIFIED:20260422T074651
LOCATION:Youth Room - Upstairs
SUMMARY:Youth Group
URL;VALUE=URI:https://fbcsenatobia.com/events/youth-group/2026-10-21
ATTACH;FILENAME=IMG_2045.jpeg;FMTTYPE=image/jpeg:https://dq5pwpg1q8ru0.clou
 dfront.net/2026/02/26/19/46/08/d941cc06-057f-48f5-998d-73d680a28f7b/IMG_20
 45.jpeg
END:VEVENT
END:VCALENDAR
