BEGIN:VCALENDAR
VERSION:2.0
PRODID:icalendar-ruby
CALSCALE:GREGORIAN
METHOD:PUBLISH
BEGIN:VEVENT
DTSTAMP:20260422T065105Z
UID:67-575755@fbcsenatobia.com
DTSTART:20260923T230000Z
DTEND:20260924T000000Z
CLASS:PUBLIC
CREATED:20260421T203813
DESCRIPTION:If you have any questions about the youth group or activities\,
  contact Cole Owen. 
LAST-MODIFIED:20260421T203813
LOCATION:Youth Room - Upstairs
SUMMARY:Youth Group
URL;VALUE=URI:https://fbcsenatobia.com/events/youth-group/2026-09-23
ATTACH;FILENAME=IMG_2045.jpeg;FMTTYPE=image/jpeg:https://dq5pwpg1q8ru0.clou
 dfront.net/2026/02/26/19/46/08/d941cc06-057f-48f5-998d-73d680a28f7b/IMG_20
 45.jpeg
END:VEVENT
END:VCALENDAR
