BEGIN:VCALENDAR
VERSION:2.0
PRODID:icalendar-ruby
CALSCALE:GREGORIAN
METHOD:PUBLISH
BEGIN:VEVENT
DTSTAMP:20260422T105940Z
UID:54-575451@fbcsenatobia.com
DTSTART:20260506T220000Z
DTEND:20260506T224000Z
CLASS:PUBLIC
CREATED:20260421T203812
DESCRIPTION:You can pay for your meal in person\, online on our website fbc
 senatobia.com\, text to give\, or in the app. There is no sign up for the 
 meals. We start serving at 5:00. If you have any questions\, call the chur
 ch office. 
LAST-MODIFIED:20260421T203812
LOCATION:Family Life Center
SUMMARY:Wednesday Night Meal 
URL;VALUE=URI:https://fbcsenatobia.com/events/wednesday-night-meal/2026-05-
 06
ATTACH;FILENAME=food-buf.jpg;FMTTYPE=image/jpeg:https://dq5pwpg1q8ru0.cloud
 front.net/2026/02/10/02/00/48/a712c10f-85b0-41cd-aa1b-efa550d1325c/food-bu
 f.jpg
END:VEVENT
END:VCALENDAR
