BEGIN:VCALENDAR
VERSION:2.0
PRODID:icalendar-ruby
CALSCALE:GREGORIAN
METHOD:PUBLISH
BEGIN:VEVENT
DTSTAMP:20260422T001322Z
UID:53-574892@fbcsenatobia.com
DTSTART:20260916T230000Z
DTEND:20260917T000000Z
CLASS:PUBLIC
CREATED:20260421T175954
DESCRIPTION:
LAST-MODIFIED:20260421T175954
LOCATION:Family Life Center
SUMMARY:Wednesday Bible Study
URL;VALUE=URI:https://fbcsenatobia.com/events/wednesday-bible-study/2026-09
 -16
ATTACH;FILENAME=IMG_7238.jpeg;FMTTYPE=image/jpeg:https://dq5pwpg1q8ru0.clou
 dfront.net/2026/02/10/01/49/28/12d41e87-233d-45aa-82e8-64b34118b3f3/IMG_72
 38.jpeg
END:VEVENT
END:VCALENDAR
