BEGIN:VCALENDAR
VERSION:2.0
PRODID:icalendar-ruby
CALSCALE:GREGORIAN
METHOD:PUBLISH
BEGIN:VEVENT
DTSTAMP:20260421T235943Z
UID:28-574854@fbcsenatobia.com
DTSTART:20260913T144500Z
DTEND:20260913T154500Z
CLASS:PUBLIC
CREATED:20260421T175954
DESCRIPTION:We have classes for all ages and groups. This includes nursery\
 , college\, couples classes\, mens and womens classes. If you need help fi
 nding a class\, anyone at church will be happy to help. 
LAST-MODIFIED:20260421T175954
LOCATION:FBC Senatobia 
SUMMARY:Sunday School 
URL;VALUE=URI:https://fbcsenatobia.com/events/sunday-school/2026-09-13
ATTACH;FILENAME=IMG_8494.jpeg;FMTTYPE=image/jpeg:https://dq5pwpg1q8ru0.clou
 dfront.net/2025/12/01/15/15/57/eb7b1bb2-3671-4d6a-96e3-3b7f5e0ccccf/IMG_84
 94.jpeg
END:VEVENT
END:VCALENDAR
