BEGIN:VCALENDAR
VERSION:2.0
PRODID:icalendar-ruby
CALSCALE:GREGORIAN
METHOD:PUBLISH
BEGIN:VEVENT
DTSTAMP:20260422T011251Z
UID:63-575142@fbcsenatobia.com
DTSTART:20260923T140000Z
DTEND:20260923T150000Z
CLASS:PUBLIC
CREATED:20260421T175955
DESCRIPTION:The Shaped By Faith Class meets most Mondays and Wednesdays. If
  you have questions contact Alexis Robinson who leads the class or call th
 e church. 
LAST-MODIFIED:20260421T175955
LOCATION:LFC
SUMMARY:Shaped By Faith 
URL;VALUE=URI:https://fbcsenatobia.com/events/shaped-by-faith/2026-09-23
ATTACH;FILENAME=FBC-CLASSEXER.png;FMTTYPE=image/png:https://dq5pwpg1q8ru0.c
 loudfront.net/2026/02/10/03/02/37/a64747ab-de60-4d14-9f25-2d0cdf15b147/FBC
 -CLASSEXER.png
END:VEVENT
END:VCALENDAR
