BEGIN:VCALENDAR
VERSION:2.0
PRODID:icalendar-ruby
CALSCALE:GREGORIAN
METHOD:PUBLISH
BEGIN:VEVENT
DTSTAMP:20260422T023632Z
UID:64-575720@fbcsenatobia.com
DTSTART:20260921T140000Z
DTEND:20260921T150000Z
CLASS:PUBLIC
CREATED:20260421T203812
DESCRIPTION:We meet most Mondays and Wednesdays. If you have questions abou
 t this contact the leader\, Alexis Robinson or call the church office. 
LAST-MODIFIED:20260421T203812
LOCATION:FLC
SUMMARY:Shaped By Faith
URL;VALUE=URI:https://fbcsenatobia.com/events/shaped-by-faith--64/2026-09-2
 1
ATTACH;FILENAME=FBC-CLASSEXER.png;FMTTYPE=image/png:https://dq5pwpg1q8ru0.c
 loudfront.net/2026/02/10/03/05/14/85a141fe-6eb8-4770-b84d-b695eab0f61c/FBC
 -CLASSEXER.png
END:VEVENT
END:VCALENDAR
