BEGIN:VCALENDAR
VERSION:2.0
PRODID:icalendar-ruby
CALSCALE:GREGORIAN
METHOD:PUBLISH
BEGIN:VEVENT
DTSTAMP:20260424T085825Z
UID:68-582339@fbcsenatobia.com
DTSTART:20261101T170000Z
DTEND:20261101T180000Z
CLASS:PUBLIC
CREATED:20260423T221952
DESCRIPTION:
LAST-MODIFIED:20260423T221952
LOCATION:FBC Senatobia Sanctuary
SUMMARY:Second Service
URL;VALUE=URI:https://fbcsenatobia.com/events/second-service--68/2026-11-01
ATTACH;FILENAME=IMG_8301.jpeg;FMTTYPE=image/jpeg:https://dq5pwpg1q8ru0.clou
 dfront.net/2026/02/28/17/23/00/673d3def-21a1-4519-80ea-4213536760a2/IMG_83
 01.jpeg
END:VEVENT
END:VCALENDAR
