BEGIN:VCALENDAR
VERSION:2.0
PRODID:icalendar-ruby
CALSCALE:GREGORIAN
METHOD:PUBLISH
BEGIN:VEVENT
DTSTAMP:20260423T235414Z
UID:68-581238@fbcsenatobia.com
DTSTART:20260920T160000Z
DTEND:20260920T170000Z
CLASS:PUBLIC
CREATED:20260423T163211
DESCRIPTION:
LAST-MODIFIED:20260423T163211
LOCATION:FBC Senatobia Sanctuary
SUMMARY:Second Service
URL;VALUE=URI:https://fbcsenatobia.com/events/second-service--68/2026-09-20
ATTACH;FILENAME=IMG_8301.jpeg;FMTTYPE=image/jpeg:https://dq5pwpg1q8ru0.clou
 dfront.net/2026/02/28/17/23/00/673d3def-21a1-4519-80ea-4213536760a2/IMG_83
 01.jpeg
END:VEVENT
END:VCALENDAR
