BEGIN:VCALENDAR
VERSION:2.0
PRODID:icalendar-ruby
CALSCALE:GREGORIAN
METHOD:PUBLISH
BEGIN:VEVENT
DTSTAMP:20260422T020546Z
UID:3-575304@fbcsenatobia.com
DTSTART:20260927T133000Z
DTEND:20260927T143000Z
CLASS:PUBLIC
CREATED:20260421T203811
DESCRIPTION:
LAST-MODIFIED:20260421T203811
LOCATION:Sanctuary
SUMMARY:First Service
URL;VALUE=URI:https://fbcsenatobia.com/events/first-service/2026-09-27
ATTACH;FILENAME=IMG_8301.jpeg;FMTTYPE=image/jpeg:https://dq5pwpg1q8ru0.clou
 dfront.net/2026/02/26/19/25/29/710be466-1396-4fe0-9b0b-1cc37b08ab16/IMG_83
 01.jpeg
END:VEVENT
END:VCALENDAR
