BEGIN:VCALENDAR
VERSION:2.0
PRODID:icalendar-ruby
CALSCALE:GREGORIAN
METHOD:PUBLISH
BEGIN:VEVENT
DTSTAMP:20260422T093201Z
UID:102-451579@fbcsenatobia.com
DTSTART:20260517T190000Z
DTEND:20260517T200000Z
CLASS:PUBLIC
CREATED:20260311T172408
DESCRIPTION:
LAST-MODIFIED:20260311T172408
LOCATION:First Baptist Church Senatobia
SUMMARY:Finance Committee Meeting
URL;VALUE=URI:https://fbcsenatobia.com/events/finance-committee-meeting--10
 2/2026-05-17
ATTACH;FILENAME=Finance-FBC-.png;FMTTYPE=image/png:https://dq5pwpg1q8ru0.cl
 oudfront.net/2026/03/11/22/24/08/f7d41513-bd62-4e6f-b88e-7cad6c8179e6/Fina
 nce-FBC-.png
END:VEVENT
END:VCALENDAR
