BEGIN:VCALENDAR
VERSION:2.0
PRODID:icalendar-ruby
CALSCALE:GREGORIAN
METHOD:PUBLISH
BEGIN:VEVENT
DTSTAMP:20260421T154612Z
UID:56-573379@fbcsenatobia.com
DTSTART:20260721T200000Z
DTEND:20260721T203000Z
CLASS:PUBLIC
CREATED:20260421T100518
DESCRIPTION:Children who attend choir are provided with a snack time. Quest
 ions about Children's Choir: Contact the Church Office
LAST-MODIFIED:20260421T100518
LOCATION:First Baptist Church Senatobia
SUMMARY:Children's Choir Snacks
URL;VALUE=URI:https://fbcsenatobia.com/events/childrens-choir-snacks/2026-0
 7-21
ATTACH;FILENAME=FBC-Senatobia-children-snacks.png;FMTTYPE=image/png:https:/
 /dq5pwpg1q8ru0.cloudfront.net/2026/02/10/02/23/44/9d54986b-d85e-449e-819a-
 1b5a8e3a26dd/FBC-Senatobia-children-snacks.png
END:VEVENT
END:VCALENDAR
